BEGIN:VCALENDAR
VERSION:2.0
PRODID:-//EE - ECPv5.10.0//NONSGML v1.0//EN
CALSCALE:GREGORIAN
METHOD:PUBLISH
X-WR-CALNAME:EE
X-ORIGINAL-URL:https://ee.iisc.ac.in
X-WR-CALDESC:Events for EE
BEGIN:VTIMEZONE
TZID:Asia/Kolkata
BEGIN:STANDARD
TZOFFSETFROM:+0530
TZOFFSETTO:+0530
TZNAME:IST
DTSTART:20230101T000000
END:STANDARD
END:VTIMEZONE
BEGIN:VEVENT
DTSTART;TZID=Asia/Kolkata:20230102T133000
DTEND;TZID=Asia/Kolkata:20230104T223000
DTSTAMP:20260423T144802
CREATED:20221128T001914Z
LAST-MODIFIED:20221128T003251Z
UID:240127-1672666200-1672871400@ee.iisc.ac.in
SUMMARY:Workshop on Protection and Stability of Renewable Dominated Power Grids
DESCRIPTION:Click here for the poster.\nTopics that will be covered in the workshop:\n\nOverview of Photovoltaic and Wind Generations\nConverter Controls for Renewables\nGrid Connection Requirements\nImpact of Renewables on Fault Analysis and Protection\nImpact of Renewables on System Stability\nTraining on Renewable Modelling in PSCAD\nAC Microgrids\nDC Microgrids\nCase Studies\n\nThe list of speakers: (Click here for the schedule.)\n\nProf Sukumar Brahma\, Clemson University\, USA\nProf Prasad Enjeti\, Texas A&M University\, USA\nDr Ritwik Majumder\, Mathworks\nProf Vinod John\, IISc\nProf Kaushik Basu\, IISc\nProf Gurunath Gurrala\, IISc\nDr. Vishnu Mahadeva Iyer\nProf Sarasij Das\, IISc\n\n 
URL:https://ee.iisc.ac.in/event/workshop-on-protection-and-stability-of-renewable-dominated-power-grids/
END:VEVENT
END:VCALENDAR