BEGIN:VCALENDAR
VERSION:2.0
PRODID:-//EE - ECPv5.10.0//NONSGML v1.0//EN
CALSCALE:GREGORIAN
METHOD:PUBLISH
X-WR-CALNAME:EE
X-ORIGINAL-URL:https://ee.iisc.ac.in
X-WR-CALDESC:Events for EE
BEGIN:VTIMEZONE
TZID:Asia/Kolkata
BEGIN:STANDARD
TZOFFSETFROM:+0530
TZOFFSETTO:+0530
TZNAME:IST
DTSTART:20240101T000000
END:STANDARD
END:VTIMEZONE
BEGIN:VEVENT
DTSTART;TZID=Asia/Kolkata:20241108T140000
DTEND;TZID=Asia/Kolkata:20241108T150000
DTSTAMP:20260422T070159
CREATED:20241108T061637Z
LAST-MODIFIED:20241108T061637Z
UID:241817-1731074400-1731078000@ee.iisc.ac.in
SUMMARY:[Talk] End-to-End Modeling for Abstractive Speech Summarization\, Dr Roshan Sharma\, Google USA\, November 8 (today)\, 2-3 pm
DESCRIPTION:TITLE: End-to-End Modeling for Abstractive Speech Summarization\n\nTIME AND VENUE: MMCR\, EE\, C241\, 2:00-3:00 pm\n\nABSTRACT\nIn our increasingly interconnected world\, where speech remains the most intuitive and natural form of communication\, spoken language processing systems face a crucial challenge: they must do more than just categorize speech\, they need to truly understand it to generate meaningful responses. One key aspect of this understanding is speech summarization\, where a system condenses the important information from spoken input into a concise summary.\n\nIn this talk\, I will discuss our work on end-to-end modeling for abstractive speech summarization\, and expound on our work in long-context modeling\, multi-stage training\, open source datasets and benchmarks\, and finally studies about the impact of various factors on human annotations.\n\n\nSPEAKER BIO:\nRoshan Sharma is a Research Scientist with Google in New York\, USA. He earned his Ph.D. in March 2024 from Carnegie Mellon University\, USA for his thesis titled “End-to-End Modeling for Abstractive Speech Summarization”. He has diverse experiences across multiple areas of speech and language processing\, including speech recognition\, spoken language understanding\, noise suppression\, multimodal machine learning\, and more recently in large-scale foundation models.
URL:https://ee.iisc.ac.in/event/talk-end-to-end-modeling-for-abstractive-speech-summarization-dr-roshan-sharma-google-usa-november-8-today-2-3-pm/
LOCATION:MMCR\, Hall C 241\, 1st floor\, EE department
END:VEVENT
END:VCALENDAR