BEGIN:VCALENDAR
VERSION:2.0
PRODID:-//EE - ECPv5.10.0//NONSGML v1.0//EN
CALSCALE:GREGORIAN
METHOD:PUBLISH
X-WR-CALNAME:EE
X-ORIGINAL-URL:https://ee.iisc.ac.in
X-WR-CALDESC:Events for EE
BEGIN:VTIMEZONE
TZID:Asia/Kolkata
BEGIN:STANDARD
TZOFFSETFROM:+0530
TZOFFSETTO:+0530
TZNAME:IST
DTSTART:20220101T000000
END:STANDARD
END:VTIMEZONE
BEGIN:VEVENT
DTSTART;TZID=Asia/Kolkata:20220420T230000
DTEND;TZID=Asia/Kolkata:20220421T000000
DTSTAMP:20260419T230348
CREATED:20220411T231422Z
LAST-MODIFIED:20220411T231422Z
UID:239692-1650495600-1650499200@ee.iisc.ac.in
SUMMARY:Seminar by Prof. Sairaj Dhople @ 5.30pm
DESCRIPTION:Title: Power-system Modeling & Control for the Era of Inverter-based Resources \nSpeaker: Prof. Sairaj Dhople\, Electrical & Computer Engineering\, University of Minnesota\nTime: 20 April 2022\, 5:30 pm\nVenue: MMCR EE / Hybrid mode \nhttps://teams.microsoft.com/l/meetup-join/19%3ameeting_YWJjZTQyZTAtYTFjNi00YTVkLWE0NjktYmJkZDMzNjI4ZDFm%40thread.v2/0?context=%7b%22Tid%22%3a%226f15cd97-f6a7-41e3-b2c5-ad4193976476%22%2c%22Oid%22%3a%220c8fe27d-52c2-4e77-a28f-a759bd113fae%22%7d \nAbstract: Power networks all over the world are experiencing dramatic upheaval in compositional form and anticipated functionality. With retirement of fossil-fuel-driven synchronous generators\, integration of renewable energy\, and adoption of electrified transportation\, there is a pronounced change in the energy-conversion interfaces that form the backbone of the grid. Particularly\, energy processing in future grids will be dominantly handled by semiconductor-based power-electronics circuits termed inverter-based resources (IBRs). This talk will provide snapshots of how classical power-system modeling problems can (and will have to) be revised to accomodate these emerging technologies. In particular\, we will present insights on synchronization of IBRs with a variety of control methods\, provide a system-theoretic solution to normalizing dynamic models of diverse grid assets\, and overview a time-domain network-reduction method for large-scale electrical networks. Each topic will be presented with an effort to acknowledge the rich history of personalities\, methods\, and venues relevant to power engineering over the 20th century. Finally\, we will discuss how partnerships and collaboration across academia\, industry (system operators\, utilities\, manufacturers)\, and national labs will be critical to facilitate large-scale integration with performance guarantees. \nBio: Sairaj Dhople received the B.S.\, M.S.\, and Ph.D. degrees in electrical engineering from the University of Illinois at Urbana-Champaign\, Urbana\, IL\, USA\, in 2007\, 2009\, and 2012\, respectively. He is currently serving as Associate Professor with the Department of Electrical and Computer Engineering at the University of Minnesota. His research interests include modeling\, analysis\, and control of power electronics and power systems with a focus on renewable integration. He is the recipient of the National Science Foundation CAREER Award in 2015\, the Outstanding Young Engineer Award from the IEEE Power and Energy Society in 2019\, and the IEEE Power and Energy Society Prize Paper Award in 2021.
URL:https://ee.iisc.ac.in/event/seminar-by-prof-sairaj-dhople-5-30pm/
END:VEVENT
END:VCALENDAR