BEGIN:VCALENDAR
VERSION:2.0
PRODID:-//EE - ECPv5.10.0//NONSGML v1.0//EN
CALSCALE:GREGORIAN
METHOD:PUBLISH
X-WR-CALNAME:EE
X-ORIGINAL-URL:https://ee.iisc.ac.in
X-WR-CALDESC:Events for EE
BEGIN:VTIMEZONE
TZID:Asia/Kolkata
BEGIN:STANDARD
TZOFFSETFROM:+0530
TZOFFSETTO:+0530
TZNAME:IST
DTSTART:20230101T000000
END:STANDARD
END:VTIMEZONE
BEGIN:VEVENT
DTSTART;TZID=Asia/Kolkata:20230621T163000
DTEND;TZID=Asia/Kolkata:20230706T223000
DTSTAMP:20260420T075028
CREATED:20230612T003521Z
LAST-MODIFIED:20230718T050519Z
UID:240769-1687365000-1688682600@ee.iisc.ac.in
SUMMARY:Provisional Research Admission Results 2023
DESCRIPTION:Provisional research admission results 2023 \nProvisinal Result reserch 2023 \n 
URL:https://ee.iisc.ac.in/event/provisional-research-admission-results-2023/
END:VEVENT
END:VCALENDAR