BEGIN:VCALENDAR
VERSION:2.0
PRODID:-//EE - ECPv5.10.0//NONSGML v1.0//EN
CALSCALE:GREGORIAN
METHOD:PUBLISH
X-WR-CALNAME:EE
X-ORIGINAL-URL:https://ee.iisc.ac.in
X-WR-CALDESC:Events for EE
BEGIN:VTIMEZONE
TZID:Asia/Kolkata
BEGIN:STANDARD
TZOFFSETFROM:+0530
TZOFFSETTO:+0530
TZNAME:IST
DTSTART:20250101T000000
END:STANDARD
END:VTIMEZONE
BEGIN:VEVENT
DTSTART;TZID=Asia/Kolkata:20250917T153000
DTEND;TZID=Asia/Kolkata:20250917T173000
DTSTAMP:20260422T101901
CREATED:20250915T065218Z
LAST-MODIFIED:20250915T065218Z
UID:242280-1758123000-1758130200@ee.iisc.ac.in
SUMMARY:PhD Oral Examination of Mr. Kamisetti N V Prasad
DESCRIPTION:Thesis Title: “Modeling\, Design and Control of Power-Electronic-Actuated Electromagnetic Bearings” \nName of the Student:  Kamisetti N V Prasad \nResearch Supervisor: Prof. G. Narayanan \nTeam’s link:\nhttps://teams.microsoft.com/l/meetup-join/19%3ameeting_MTdhNmUyYjYtMjEwOS00NWRlLTliZTgtODc2OGI5NTZkODRh%40thread.v2/0?context=%7b%22Tid%22%3a%226f15cd97-f6a7-41e3-b2c5-ad4193976476%22%2c%22Oid%22%3a%22f711300f-120c-447e-8a76-45f7c1a483a8%22%7d
URL:https://ee.iisc.ac.in/event/phd-oral-examination-of-mr-kamisetti-n-v-prasad/
LOCATION:MMCR\, Hall C 241\, 1st floor\, EE department
END:VEVENT
END:VCALENDAR