BEGIN:VCALENDAR
VERSION:2.0
PRODID:-//EE - ECPv5.10.0//NONSGML v1.0//EN
CALSCALE:GREGORIAN
METHOD:PUBLISH
X-WR-CALNAME:EE
X-ORIGINAL-URL:https://ee.iisc.ac.in
X-WR-CALDESC:Events for EE
BEGIN:VTIMEZONE
TZID:Asia/Kolkata
BEGIN:STANDARD
TZOFFSETFROM:+0530
TZOFFSETTO:+0530
TZNAME:IST
DTSTART:20240101T000000
END:STANDARD
END:VTIMEZONE
BEGIN:VEVENT
DTSTART;TZID=Asia/Kolkata:20240828T160000
DTEND;TZID=Asia/Kolkata:20240828T173000
DTSTAMP:20260422T084906
CREATED:20240828T060156Z
LAST-MODIFIED:20240828T060156Z
UID:241775-1724860800-1724866200@ee.iisc.ac.in
SUMMARY:EE Talk: “Is EMT Simulation Becoming More of a Necessity in Time-Domain Simulation
DESCRIPTION:EEE PES Student Branch Chapter\, IISc\, is organizing a series of technical talks on ‘Generic Modelling of Inverter Based Resources (IBRs) for Power System Planning Studies’ by Prof. Vijay Vittal\, Arizona State University\, USA. \nThe details of the Fourth technical talk are as follows. \n\nTitle:  “Is EMT Simulation Becoming More of a Necessity in Time-Domain Simulation” \nVenue: Conference Room B-303\,EE  2nd Floor\, Electrical Engineering Department \nDate and Time: Wednesday\, 28 August 2024\, 4 PM – 5 PM  IST. \nMode: In-person \n\nSpeaker Biography: \n \nRegents Professor Vijay Vittal is the Ira A. Fulton Chair Professor (2005) and ASU Foundation Professor in Electric Power Systems at Arizona State University. Prior to ASU\, Vittal was an Anson Marston Distinguished Professor at the Iowa State University\, Electrical and Computer Engineering Department. In addition\, Vittal was a Murray and Ruth Harpole Professor and director of the university’s Electric Power Research Center and site director of the National Science Foundation IUCRC Power System Engineering Research Center. He also served as the program director for power systems for the National Science Foundation Division of Electrical and Communication Systems in Washington\, D.C.\, from 1993 to 1994. He was the editor-in-chief of the IEEE Transactions on Power Systems from 2005 to 2011. Professor Vittal was elected to the U.S. National Academy of Engineering in 2004. In 2018\, he received the IEEE Power and Energy Society Prabha. S. Kundur Power System Dynamics and Control Award and the Utility Variable-Generation Integration Group Achievement Award. In 2013\, he was awarded the IEEE Herman Halperin Transmission and Distribution Technical Field Award. He also received the IEEE Power and Energy Society (PES) Outstanding Power Engineering Educator Award in 2000. He was elected an IEEE Fellow in 1997 and awarded the U.S. National Science Foundation Presidential Young Investigator Award in 1985.
URL:https://ee.iisc.ac.in/event/ee-talk-is-emt-simulation-becoming-more-of-a-necessity-in-time-domain-simulation/
LOCATION:B-303\,EE
END:VEVENT
END:VCALENDAR