BEGIN:VCALENDAR
VERSION:2.0
PRODID:-//EE - ECPv5.10.0//NONSGML v1.0//EN
CALSCALE:GREGORIAN
METHOD:PUBLISH
X-WR-CALNAME:EE
X-ORIGINAL-URL:https://ee.iisc.ac.in
X-WR-CALDESC:Events for EE
BEGIN:VTIMEZONE
TZID:Asia/Kolkata
BEGIN:STANDARD
TZOFFSETFROM:+0530
TZOFFSETTO:+0530
TZNAME:IST
DTSTART:20230101T000000
END:STANDARD
END:VTIMEZONE
BEGIN:VEVENT
DTSTART;TZID=Asia/Kolkata:20230929T160000
DTEND;TZID=Asia/Kolkata:20230929T173000
DTSTAMP:20260422T154235
CREATED:20230913T053937Z
LAST-MODIFIED:20230918T040821Z
UID:241060-1696003200-1696008600@ee.iisc.ac.in
SUMMARY:[EE Faculty Colloquium] Overview of Research on Pulse Width Modulation\, Motor Control and Electrical Machines
DESCRIPTION:Title: Overview of Research on Pulse Width Modulation\, Motor Control and Electrical Machines at EE\, IISc \nSpeaker: Prof. G. Narayanan\, Professor\, Electrical Engineering\, IISc \nVenue: MMCR\, EE & Online Teams link \nTime: 4pm\, 29 September 2023 \nAbstract:\nThe talk will provide a brief overview of research on pulse width modulation (PWM)\, motor control and electrical machines\, which the speaker has been a part of\, in the department of electrical engineering over the past 2-3 decades. Research highlights will be presented on the following aspects: \n\nSpace vector based PWM for motor drives and four-quadrant voltage-source converters\nOffline optimized PWM for induction motor drives\nHigh power converters for motor drives and active front-end converters\nPower-electronic control of induction motor and its variants\nEffect of inverter dead-time and its compensation\nInduction motor drive-based emulation of wind turbine\nPower electronic based emulation of electrical machines\n\nRecent and on-going activities on the following with be discussed briefly: \n\nPermanent-magnet-free high-performance motors based on reluctance principle\nHigh-speed switched reluctance motors and contact-free electromagnetic bearings\nMulti-disciplinary initiatives involving multiple departments\, multiple institutions / organizations across technical domains\n\nSpeaker’s Bio:\nG. Narayanan received his BE from College of Engineering Guindy\, Anna University\, Chennai\, in 1992; MTech from IIT Kharagpur in 1994; and PhD from IISc in 2000. He has been on the faculty of EE\, IISc\, since August 2003. He researches in the areas of power electronics\, motor drives and electrical machines. He has taught / has been teaching multiple courses in these broad domains.\n\n* All are welcome * \n—————————————-
URL:https://ee.iisc.ac.in/event/ee-faculty-colloquium-overview-of-research-on-pulse-width-modulation-motor-control-and-electrical-machines/
LOCATION:MMCR\, Hall C 241\, 1st floor\, EE department
END:VEVENT
END:VCALENDAR