BEGIN:VCALENDAR
VERSION:2.0
PRODID:-//EE - ECPv5.10.0//NONSGML v1.0//EN
CALSCALE:GREGORIAN
METHOD:PUBLISH
X-WR-CALNAME:EE
X-ORIGINAL-URL:https://ee.iisc.ac.in
X-WR-CALDESC:Events for EE
BEGIN:VTIMEZONE
TZID:Asia/Kolkata
BEGIN:STANDARD
TZOFFSETFROM:+0530
TZOFFSETTO:+0530
TZNAME:IST
DTSTART:20230101T000000
END:STANDARD
END:VTIMEZONE
BEGIN:VEVENT
DTSTART;TZID=Asia/Kolkata:20230720T090000
DTEND;TZID=Asia/Kolkata:20230722T173000
DTSTAMP:20260420T051328
CREATED:20230630T011505Z
LAST-MODIFIED:20230714T113104Z
UID:240785-1689843600-1690047000@ee.iisc.ac.in
SUMMARY:A 3 Day workshop on electric vehicle power train design on 20 21 22 July 2023
DESCRIPTION:A 3 Day workshop on electric vehicle power train design on 20 21 22 July 2023 at Dept of EE IISc. \nThe link for workshop : \nhttp://www.nwevtech.com \nPoster:  IISc EE EV workshop poster
URL:https://ee.iisc.ac.in/event/a-3-day-workshop-on-electric-vehicle-power-train-design-on-20-21-22-july-2023/
END:VEVENT
END:VCALENDAR